BEGIN:VCALENDAR
VERSION:2.0
PRODID:-//Tukios.com/
BEGIN:VEVENT
UID:adf197da-d60d-4371-9153-b072dee93e18@www.simplycremationmiddlegeorgia.com
DTSTAMP:20260420T192031Z
DTSTART:20260426T180000Z
DTEND:20260426T190000Z
SUMMARY:Celebration of Life
DESCRIPTION:
URL:https://www.simplycremationmiddlegeorgia.com/obituaries/lundianne-johnson
LOCATION:Carolyn Clayton Park pavilion one 150 Willie Smokie Glover Drive 
	 Macon GA 31201
GEO:32.8331789;-83.6152137
END:VEVENT
END:VCALENDAR