BEGIN:VCALENDAR
VERSION:2.0
PRODID:-//Tukios.com/
BEGIN:VEVENT
UID:7b623fc1-1938-4f48-8770-473297dde204@www.simplycremationmiddlegeorgia.com
DTSTAMP:20260425T032605Z
DTSTART:20260504T231500Z
DTEND:20260505T001500Z
SUMMARY:Memorial Service
DESCRIPTION:
URL:https://www.simplycremationmiddlegeorgia.com/obituaries/ray-thompson
LOCATION:Ingleside Baptist Church 834 Wimbish Road  Macon GA 31210
GEO:32.8863197;-83.6769774
END:VEVENT
END:VCALENDAR